BEGIN:VCALENDAR
PRODID:-//eluceo/ical//2.0/EN
VERSION:2.0
CALSCALE:GREGORIAN
BEGIN:VEVENT
UID:event-145
DTSTAMP:20260423T024019Z
SUMMARY:Study Trip: Barcelona & Valencia
DESCRIPTION:Dear SHARE members\, From the 18th until the 24th of April 2026
 \, we’ll be heading to Barcelona AND Valencia for our annual Study Trip 
 and we can’t wait to explore these amazing cities together! 🇪🇸🌴
  The trip will be offered for 585 euros. This includes transportation\, ac
 comodations\, study and non-study related activities and multiple dinners.
   Registration opens on Thursday\, January 29th at 19:00. Spots are limit
 ed\, so make sure to sign up quickly to secure your place. We hope you’l
 l join us for an unforgettable week full of learning\, fun\, and great mem
 ories. With love\, The Study Trip Committee
DTSTART:20260417T220000Z
DTEND:20260423T220000Z
END:VEVENT
BEGIN:VTIMEZONE
TZID:UTC
BEGIN:STANDARD
DTSTART:20260417T220000
TZNAME:UTC
TZOFFSETTO:+0000
TZOFFSETFROM:+0000
END:STANDARD
END:VTIMEZONE
END:VCALENDAR
